BEGIN:VCALENDAR
VERSION:2.0
PRODID:-//The Hicksville Congress of Teachers - ECPv4.9.10//NONSGML v1.0//EN
CALSCALE:GREGORIAN
METHOD:PUBLISH
X-WR-CALNAME:The Hicksville Congress of Teachers
X-ORIGINAL-URL:http://hicksvilleteachers.org
X-WR-CALDESC:Events for The Hicksville Congress of Teachers
BEGIN:VTIMEZONE
TZID:America/New_York
BEGIN:DAYLIGHT
TZOFFSETFROM:-0500
TZOFFSETTO:-0400
TZNAME:EDT
DTSTART:20200308T070000
END:DAYLIGHT
BEGIN:STANDARD
TZOFFSETFROM:-0400
TZOFFSETTO:-0500
TZNAME:EST
DTSTART:20201101T060000
END:STANDARD
END:VTIMEZONE
BEGIN:VEVENT
DTSTART;TZID=America/New_York:20200123T163000
DTEND;TZID=America/New_York:20200123T180000
DTSTAMP:20260424T014151
CREATED:20200108T214610Z
LAST-MODIFIED:20200108T214739Z
UID:6209-1579797000-1579802400@hicksvilleteachers.org
SUMMARY:Trauma Awareness in Education
DESCRIPTION:Increasingly our students experience exposure to multiple or prolonged traumatic events\, such as child abuse\, neglect\, and exposure to domestic violence. This experience directly affects their social and emotional development and negatively impacts their behavior and academic growth in school. It is becoming more common that educators are faced with the challenges of connecting with and educating students who have endured complex trauma. Often the hurt that is felt by the student is placed on the educator and it can manifest in a variety of ways. This seminar will engage participants in understanding the roots of trauma\, its prevalence and causes\, the characteristics and associated behaviors\, as well as learning how to work with traumatized students in a proactive and positive way.  \n
URL:http://hicksvilleteachers.org/event/6209/
LOCATION:NYSUT – Nassau Regional Office\, 1000 Woodbury Road\, Suite 214\, Woodbury\, NY\, 11797\, United States
ATTACH;FMTTYPE=image/jpeg:http://hicksvilleteachers.org/wp-content/uploads/traumaworkshop.jpg
END:VEVENT
END:VCALENDAR