BEGIN:VCALENDAR
VERSION:2.0
PRODID:-//The Hicksville Congress of Teachers - ECPv4.9.10//NONSGML v1.0//EN
CALSCALE:GREGORIAN
METHOD:PUBLISH
X-WR-CALNAME:The Hicksville Congress of Teachers
X-ORIGINAL-URL:http://hicksvilleteachers.org
X-WR-CALDESC:Events for The Hicksville Congress of Teachers
BEGIN:VTIMEZONE
TZID:America/New_York
BEGIN:DAYLIGHT
TZOFFSETFROM:-0500
TZOFFSETTO:-0400
TZNAME:EDT
DTSTART:20200308T070000
END:DAYLIGHT
BEGIN:STANDARD
TZOFFSETFROM:-0400
TZOFFSETTO:-0500
TZNAME:EST
DTSTART:20201101T060000
END:STANDARD
END:VTIMEZONE
BEGIN:VEVENT
DTSTART;TZID=America/New_York:20200212T160000
DTEND;TZID=America/New_York:20200212T160000
DTSTAMP:20260424T025048
CREATED:20191113T162053Z
LAST-MODIFIED:20191113T162053Z
UID:5855-1581523200-1581523200@hicksvilleteachers.org
SUMMARY:Board of Directors Meeting
DESCRIPTION:
URL:http://hicksvilleteachers.org/event/board-of-directors-meeting-8/
LOCATION:Fork Lane School\, Four Fork Lane\, Hicksville\, NY\, 11801\, United States
END:VEVENT
END:VCALENDAR