BEGIN:VCALENDAR
VERSION:2.0
PRODID:-//The Hicksville Congress of Teachers - ECPv4.9.10//NONSGML v1.0//EN
CALSCALE:GREGORIAN
METHOD:PUBLISH
X-WR-CALNAME:The Hicksville Congress of Teachers
X-ORIGINAL-URL:http://hicksvilleteachers.org
X-WR-CALDESC:Events for The Hicksville Congress of Teachers
BEGIN:VTIMEZONE
TZID:America/New_York
BEGIN:DAYLIGHT
TZOFFSETFROM:-0500
TZOFFSETTO:-0400
TZNAME:EDT
DTSTART:20200308T070000
END:DAYLIGHT
BEGIN:STANDARD
TZOFFSETFROM:-0400
TZOFFSETTO:-0500
TZNAME:EST
DTSTART:20201101T060000
END:STANDARD
END:VTIMEZONE
BEGIN:VEVENT
DTSTART;VALUE=DATE:20200212
DTEND;VALUE=DATE:20200213
DTSTAMP:20260424T012849
CREATED:20191113T155507Z
LAST-MODIFIED:20191113T155507Z
UID:5760-1581465600-1581551999@hicksvilleteachers.org
SUMMARY:Board of Education Meeting
DESCRIPTION:
URL:http://hicksvilleteachers.org/event/board-of-education-meeting-7/
LOCATION:Administration Building\, 200 Division Avenue\, Hicksville\, NY\, 11801\, United States
END:VEVENT
END:VCALENDAR