BEGIN:VCALENDAR
VERSION:2.0
PRODID:-//The Hicksville Congress of Teachers - ECPv4.9.10//NONSGML v1.0//EN
CALSCALE:GREGORIAN
METHOD:PUBLISH
X-WR-CALNAME:The Hicksville Congress of Teachers
X-ORIGINAL-URL:http://hicksvilleteachers.org
X-WR-CALDESC:Events for The Hicksville Congress of Teachers
BEGIN:VTIMEZONE
TZID:America/New_York
BEGIN:DAYLIGHT
TZOFFSETFROM:-0500
TZOFFSETTO:-0400
TZNAME:EDT
DTSTART:20200308T070000
END:DAYLIGHT
BEGIN:STANDARD
TZOFFSETFROM:-0400
TZOFFSETTO:-0500
TZNAME:EST
DTSTART:20201101T060000
END:STANDARD
END:VTIMEZONE
BEGIN:VEVENT
DTSTART;TZID=America/New_York:20200201T080000
DTEND;TZID=America/New_York:20200201T160000
DTSTAMP:20260424T041641
CREATED:20191210T170616Z
LAST-MODIFIED:20191210T171447Z
UID:6087-1580544000-1580572800@hicksvilleteachers.org
SUMMARY:Early Career Member Conference
DESCRIPTION:NYSUT NASSAU-SUFFOLK REGIONAL\nEARLY CAREER MEMBER CONFERENCE \nHuntington Hilton Hotel\n598 Broadhollow Road\nMelville\, New York\nSaturday\, February 1\, 2020\n8:00 A.M. to 4:30 P.M. \nRegistration deadline is Wednesday\, January 17\, 2020* \nA full Breakfast and Lunch will be served. \nThis free conference is designed to acquaint members in the early stage of their careers with the vast array of professional and personal services NYSUT union membership provides. The conference features a menu of eight workshops. When you register you will be asked to select a total of 5 workshops. All featured workshops address issues of interest and concern to early career members. \n\nNavigating the Complex Certification Maze \nUnderstanding the Protections Provided (and not provided) by Tenure \nThe Career-Threatening Perils of Misusing Social Media \nNYSUT's Education & Learning Trust - A Valuable Professional Resource for Early Career Educators \nWhat You Need to Know NOW About the Teachers' Retirement System \nYou Can Realize Significant Savings Through NYSUT's Member Benefits Program \nStudent Debt Clinic** \nFrom Hired to Retired \nDownload flyer and workshop descriptions here. \nRegister Here \n*Individuals wishing to register after that date must contact their respective Regional Office. If space permits we will accept late registrants\, but they will not be guaranteed a seat in all of the workshops of their choice. \n**Student Debt Clinic is a double period workshop. If you choose to attend you may attend a total of four workshops. \n
URL:http://hicksvilleteachers.org/event/early-career-member-conference/
LOCATION:Huntington Hilton\, 598 Broadhollow Road\, Melville\, NY\, 11747\, United States
END:VEVENT
END:VCALENDAR