BEGIN:VCALENDAR
VERSION:2.0
PRODID:-//The Hicksville Congress of Teachers - ECPv4.9.10//NONSGML v1.0//EN
CALSCALE:GREGORIAN
METHOD:PUBLISH
X-WR-CALNAME:The Hicksville Congress of Teachers
X-ORIGINAL-URL:http://hicksvilleteachers.org
X-WR-CALDESC:Events for The Hicksville Congress of Teachers
BEGIN:VTIMEZONE
TZID:America/New_York
BEGIN:DAYLIGHT
TZOFFSETFROM:-0500
TZOFFSETTO:-0400
TZNAME:EDT
DTSTART:20200308T070000
END:DAYLIGHT
BEGIN:STANDARD
TZOFFSETFROM:-0400
TZOFFSETTO:-0500
TZNAME:EST
DTSTART:20201101T060000
END:STANDARD
END:VTIMEZONE
BEGIN:VEVENT
DTSTART;TZID=America/New_York:20200228T033000
DTEND;TZID=America/New_York:20200228T180000
DTSTAMP:20260424T031836
CREATED:20200108T214020Z
LAST-MODIFIED:20200108T214020Z
UID:6205-1582860600-1582912800@hicksvilleteachers.org
SUMMARY:HCT Read Across America
DESCRIPTION:The HCT will be Celebrating a Nation of Diverse Readers by once again participating in NEA’s Read Across America! We need you to make the event a success. Join fellow HCT members as they experience the joys of reading with children. \nOur reading party will take place on\nFebruary 28\, 2020 from\n3:30 P.M. to 6:00 P.M.\nat the Hicksville Parent Center. \nSo please mark you calendars now! \n  \n
URL:http://hicksvilleteachers.org/event/hct-read-across-america/
LOCATION:Administration Building\, 200 Division Avenue\, Hicksville\, NY\, 11801\, United States
END:VEVENT
END:VCALENDAR