BEGIN:VCALENDAR
VERSION:2.0
PRODID:-//The Hicksville Congress of Teachers - ECPv4.9.10//NONSGML v1.0//EN
CALSCALE:GREGORIAN
METHOD:PUBLISH
X-WR-CALNAME:The Hicksville Congress of Teachers
X-ORIGINAL-URL:http://hicksvilleteachers.org
X-WR-CALDESC:Events for The Hicksville Congress of Teachers
BEGIN:VTIMEZONE
TZID:America/New_York
BEGIN:DAYLIGHT
TZOFFSETFROM:-0500
TZOFFSETTO:-0400
TZNAME:EDT
DTSTART:20190310T070000
END:DAYLIGHT
BEGIN:STANDARD
TZOFFSETFROM:-0400
TZOFFSETTO:-0500
TZNAME:EST
DTSTART:20191103T060000
END:STANDARD
END:VTIMEZONE
BEGIN:VEVENT
DTSTART;TZID=America/New_York:20191214T090000
DTEND;TZID=America/New_York:20191214T210000
DTSTAMP:20260424T025507
CREATED:20191114T144719Z
LAST-MODIFIED:20191114T144719Z
UID:5987-1576314000-1576357200@hicksvilleteachers.org
SUMMARY:Jake's 58
DESCRIPTION:$20 in Free Slot Play for You and a Guest! \nYou and your guest MUST pre-register list by Monday\, November 25th.\nThere can be no exception to the pre-registration. \nIf you have questions and/or to pre-register you and a guest\, please email your name and the name of your guest to Alison Silvestri at ajsilvest@hotmail.com \nYou do not need to be a New Player Club member to participate in this promotion. \n
URL:http://hicksvilleteachers.org/event/jakes-58/
LOCATION:Jake’s 58\, 3635 Express Dr N\, Islandia\, NY\, 11749\, United States
ATTACH;FMTTYPE=image/png:http://hicksvilleteachers.org/wp-content/uploads/jakes582019.png
END:VEVENT
END:VCALENDAR