BEGIN:VCALENDAR
VERSION:2.0
PRODID:-//The Hicksville Congress of Teachers - ECPv4.9.10//NONSGML v1.0//EN
CALSCALE:GREGORIAN
METHOD:PUBLISH
X-WR-CALNAME:The Hicksville Congress of Teachers
X-ORIGINAL-URL:http://hicksvilleteachers.org
X-WR-CALDESC:Events for The Hicksville Congress of Teachers
BEGIN:VTIMEZONE
TZID:America/New_York
BEGIN:DAYLIGHT
TZOFFSETFROM:-0500
TZOFFSETTO:-0400
TZNAME:EDT
DTSTART:20250309T070000
END:DAYLIGHT
BEGIN:STANDARD
TZOFFSETFROM:-0400
TZOFFSETTO:-0500
TZNAME:EST
DTSTART:20251102T060000
END:STANDARD
END:VTIMEZONE
BEGIN:VEVENT
DTSTART;TZID=America/New_York:20250320T080000
DTEND;TZID=America/New_York:20250404T170000
DTSTAMP:20260423T224635
CREATED:20250320T141939Z
LAST-MODIFIED:20250320T142430Z
UID:8144-1742457600-1743786000@hicksvilleteachers.org
SUMMARY:NYSTRS Delegate Application
DESCRIPTION:NYSTRS Delegate Application 2025 \n
URL:http://hicksvilleteachers.org/event/nystrs-delegate-application/
END:VEVENT
END:VCALENDAR