BEGIN:VCALENDAR
VERSION:2.0
PRODID:-//The Hicksville Congress of Teachers - ECPv4.9.10//NONSGML v1.0//EN
CALSCALE:GREGORIAN
METHOD:PUBLISH
X-WR-CALNAME:The Hicksville Congress of Teachers
X-ORIGINAL-URL:http://hicksvilleteachers.org
X-WR-CALDESC:Events for The Hicksville Congress of Teachers
BEGIN:VTIMEZONE
TZID:America/New_York
BEGIN:DAYLIGHT
TZOFFSETFROM:-0500
TZOFFSETTO:-0400
TZNAME:EDT
DTSTART:20200308T070000
END:DAYLIGHT
BEGIN:STANDARD
TZOFFSETFROM:-0400
TZOFFSETTO:-0500
TZNAME:EST
DTSTART:20201101T060000
END:STANDARD
END:VTIMEZONE
BEGIN:VEVENT
DTSTART;VALUE=DATE:20200116
DTEND;VALUE=DATE:20200117
DTSTAMP:20260424T030255
CREATED:20191114T145148Z
LAST-MODIFIED:20191114T145148Z
UID:5994-1579132800-1579219199@hicksvilleteachers.org
SUMMARY:Professional Development Courses
DESCRIPTION:\nThis year the Nassau Regional Office is introducing a series of CTLE credit-bearing professional development courses for teachers and SRPs presented by NYSUT's Education & Learning Trust (ELT). \n\n \n\nBelow is a listing of the courses and dates. For more details and to register\,\nclick here.\n\n \n\n\n\n\n12/4/19\n\nSupporting the Social-Emotional Needs of English Language Learners Who Experience Trauma\n\n\n\n1/16/20\nWorking Safely in Schools: Preventing Illness and Injuries when Toileting Students\n\n\n\n1/23/20\n\nTrauma Awareness in Education: Supporting Resiliency and Preventing Conflict\n\n\n\n\n
URL:http://hicksvilleteachers.org/event/professional-development-courses/
LOCATION:NYSUT – Nassau Regional Office\, 1000 Woodbury Road\, Suite 214\, Woodbury\, NY\, 11797\, United States
END:VEVENT
END:VCALENDAR