BEGIN:VCALENDAR
VERSION:2.0
PRODID:-//The Hicksville Congress of Teachers - ECPv4.9.10//NONSGML v1.0//EN
CALSCALE:GREGORIAN
METHOD:PUBLISH
X-WR-CALNAME:The Hicksville Congress of Teachers
X-ORIGINAL-URL:http://hicksvilleteachers.org
X-WR-CALDESC:Events for The Hicksville Congress of Teachers
BEGIN:VTIMEZONE
TZID:America/New_York
BEGIN:DAYLIGHT
TZOFFSETFROM:-0500
TZOFFSETTO:-0400
TZNAME:EDT
DTSTART:20190310T070000
END:DAYLIGHT
BEGIN:STANDARD
TZOFFSETFROM:-0400
TZOFFSETTO:-0500
TZNAME:EST
DTSTART:20191103T060000
END:STANDARD
END:VTIMEZONE
BEGIN:VEVENT
DTSTART;TZID=America/New_York:20191116T163000
DTEND;TZID=America/New_York:20191116T183000
DTSTAMP:20260424T041422
CREATED:20191113T163038Z
LAST-MODIFIED:20191113T163208Z
UID:5864-1573921800-1573929000@hicksvilleteachers.org
SUMMARY:Puzzle Break
DESCRIPTION:  \n$40 per person\nCash or check payable to the\nHicksville Congress of Teachers is accepted \n\nDEADLINE to Register is November 6th\nPlease arrive by 4:15 PM \nWe don't want to begin without you! \nFood will be provided from 5:30-6:30\n(pizza\, salad\, garlic knots\, soda & dessert)\n-------------------------------------\nPlease contact Alison Silvestri at ajsilvest@hotmail.com with any questions \n
URL:http://hicksvilleteachers.org/event/puzzle-break/
LOCATION:Puzzle Break\, 180 Michael Drive\, Syosett\, NY\, 11791\, United States
ATTACH;FMTTYPE=image/jpeg:http://hicksvilleteachers.org/wp-content/uploads/puzzlebreakeventpage-e1571150439861.jpg
END:VEVENT
END:VCALENDAR