BEGIN:VCALENDAR
VERSION:2.0
PRODID:-//The Hicksville Congress of Teachers - ECPv4.9.10//NONSGML v1.0//EN
CALSCALE:GREGORIAN
METHOD:PUBLISH
X-WR-CALNAME:The Hicksville Congress of Teachers
X-ORIGINAL-URL:http://hicksvilleteachers.org
X-WR-CALDESC:Events for The Hicksville Congress of Teachers
BEGIN:VTIMEZONE
TZID:America/New_York
BEGIN:DAYLIGHT
TZOFFSETFROM:-0500
TZOFFSETTO:-0400
TZNAME:EDT
DTSTART:20200308T070000
END:DAYLIGHT
BEGIN:STANDARD
TZOFFSETFROM:-0400
TZOFFSETTO:-0500
TZNAME:EST
DTSTART:20201101T060000
END:STANDARD
END:VTIMEZONE
BEGIN:VEVENT
DTSTART;TZID=America/New_York:20200516T190000
DTEND;TZID=America/New_York:20200516T190000
DTSTAMP:20260423T224948
CREATED:20200226T175557Z
LAST-MODIFIED:20200226T180222Z
UID:6280-1589655600-1589655600@hicksvilleteachers.org
SUMMARY:Union Night at Citifield
DESCRIPTION: \nDownload order form and return with payment to Alison Silvestri no later than April 3.\n \nContact Alison Silvestri @ ajsilvest@hotmail.com  with any questions.\n \n \n \n
URL:http://hicksvilleteachers.org/event/union-night-at-citifield/
ATTACH;FMTTYPE=image/jpeg:http://hicksvilleteachers.org/wp-content/uploads/unionnightmay16.jpg
END:VEVENT
END:VCALENDAR